BEGIN:VCALENDAR
VERSION:2.0
PRODID:Events Booking
BEGIN:VEVENT
UID:69e9ed67e52b9
SUMMARY:Tamariki Open Rehearsal 
DESCRIPTION:Looking for a musical experience for your child aged 5 to 9 yea
 rs? Tamariki is a perfect way to introduce singing: play-centered\, active
 \, and laying a wonderful foundation for musical learning.Join us for this
  free\, no-commitment open rehearsal to see if Tamariki is right for your 
 child!Please note Tamariki is offered at two locations during the year\, i
 n different age groupings. All groups perform together. Please see the Tam
 ariki page on our website for more information.
LOCATION:8424 95 Ave NW
DTSTART:20260429T233000Z
DTEND:20260430T003000Z
DTSTAMP:20250912T013335Z
ORGANIZER;CN=Korora Choirs:MAILTO:website@kokopellichoirs.com
GEO:53.532224;-113.561729
X-APPLE-STRUCTURED-LOCATION;VALUE=URI;X-ADDRESS=8424 95 Ave NW;X-APPLE-RADI
 US=72;X-TITLE=St. Luke's Anglican Church :53.532224;-113.561729
END:VEVENT
END:VCALENDAR