BEGIN:VCALENDAR
VERSION:2.0
PRODID:Events Booking
BEGIN:VEVENT
UID:69e9ed58b3df0
SUMMARY:Before Flowers
DESCRIPTION:Our 30th anniversary season concludes with a concert celebratin
 g our three adult choirs. Performing separately and as a mass choir\, Òra
 n\, Vacilando\, and ChandraTala will take you on a virtuoso musical odysse
 y reflecting on life’s transitions and stages.
LOCATION:10025 101 St NW & MacDonald Dr NW
DTSTART:20260510T013000Z
DTSTAMP:20251111T063909Z
ORGANIZER;CN=Korora Choirs:MAILTO:website@kokopellichoirs.com
GEO:53.539591;-113.493782
X-APPLE-STRUCTURED-LOCATION;VALUE=URI;X-ADDRESS=10025 101 St NW & MacDonald
  Dr NW;X-APPLE-RADIUS=72;X-TITLE=McDougall United Church:53.539591;-113.49
 3782
END:VEVENT
END:VCALENDAR