BEGIN:VCALENDAR
VERSION:2.0
PRODID:Events Booking
BEGIN:VEVENT
UID:69e9ebc5c2940
SUMMARY:Shumayela Open Rehearsal
DESCRIPTION:Curious about choir? Join us for this no-commitment free oppor
 tunity to see what a Shumayela rehearsal is like! No experience required. 
 Prospective singers will be invited to sit with the group and sing along\;
  parents/guardians are also welcome to observe.Shumayela is an auditioned 
 choir for youth ages 12 to 16 (must be 12 by January 1\, 2027 for the comi
 ng season). Check out Kikimasu for younger kids\, and Korora and Korus for
  older kids.Please note\, while we rehearse in an Anglican church\, we are
  not a religious organization. All are welcome. We are committed to equity
  - read more here.St Paul's Anglican has a step-free entrance on the sout
 h side of the church as well as handicapped parking. There is a short flig
 ht of stairs up to the rehearsal space as well as an elevator. Washrooms a
 re accessible on the main floor. 
LOCATION:10127 145 St NW\, Edmonton\, AB T5N 2X6\, Canada
DTSTART:20260506T010000Z
DTEND:20260506T020000Z
DTSTAMP:20260422T011114Z
ORGANIZER;CN=Korora Choirs:MAILTO:website@kokopellichoirs.com
GEO:53.542539;-113.570367
X-APPLE-STRUCTURED-LOCATION;VALUE=URI;X-ADDRESS=10127 145 St NW\, Edmonton\
 , AB T5N 2X6\, Canada;X-APPLE-RADIUS=72;X-TITLE=St Paul's Anglican Church:
 53.542539;-113.570367
END:VEVENT
END:VCALENDAR