BEGIN:VCALENDAR
VERSION:2.0
PRODID:Events Booking
BEGIN:VEVENT
UID:69e8f6efc13bb
SUMMARY:Korora Presents Collective Singers - Edmonton
DESCRIPTION:Korora’s 30th anniversary celebrations continue with a concer
 t from Namibia’s internationally renowned Collective Singers (collective
 singers.com). Also featuring our own Korora\, Korus\, and Òran\, this con
 cert promises a breathtaking evening of musical artistry\, movement\, and 
 collaboration. You do NOT want to miss this.
LOCATION:10025 101 St NW & MacDonald Dr NW
DTSTART:20260412T010000Z
DTSTAMP:20251111T062136Z
ORGANIZER;CN=Korora Choirs:MAILTO:website@kokopellichoirs.com
GEO:53.539591;-113.493782
X-APPLE-STRUCTURED-LOCATION;VALUE=URI;X-ADDRESS=10025 101 St NW & MacDonald
  Dr NW;X-APPLE-RADIUS=72;X-TITLE=McDougall United Church:53.539591;-113.49
 3782
END:VEVENT
END:VCALENDAR