BEGIN:VCALENDAR
VERSION:2.0
PRODID:Events Booking
BEGIN:VEVENT
UID:69e9fda3ac636
SUMMARY:Òran Open Rehearsal
DESCRIPTION:Curious about choir? Join us for this no-commitment free opport
 unity to see what an Òran rehearsal is like! You will have the option of 
 joining in with the choir and singing along\, observing\, or any mix of th
 e two. We will also have a brief chat about the choir's performance and le
 arning opportunities and what is expected of members. No experience requir
 ed!Òran is our busiest adult ensemble\, and is an auditioned group for mi
 xed voices of all genders. While no experience is required to join\, readi
 ng music and choral experience are assets as we have a busy schedule packe
 d with music! For a slower-paced experience\, check out Vacilando. For an 
 upper voice ensemble option\, check out ChandraTala.Please note\, while we
  rehearse in a church\, we are not a religious organization. All are welco
 me. We are committed to equity - read more here.McDougall United Church is
  locked at all times for security reasons\, but you can enter the church v
 ia the ramp door on the south side of the building (MacDonald Drive). Ther
 e should be someone available to admit you until about 8:35 PM\, and we wi
 ll post instructions for access on the door as well. McDougall's main spac
 e is accessible via a short flight of stairs or an elevator\; the stage it
 self is only accessible by stairs. The church has an all-gender washroom a
 vailable.
LOCATION:10025 101 St NW & MacDonald Dr NW
DTSTART:20260501T023000Z
DTEND:20260501T031500Z
DTSTAMP:20260422T021420Z
ORGANIZER;CN=Korora Choirs:MAILTO:website@kokopellichoirs.com
GEO:53.539591;-113.493782
X-APPLE-STRUCTURED-LOCATION;VALUE=URI;X-ADDRESS=10025 101 St NW & MacDonald
  Dr NW;X-APPLE-RADIUS=72;X-TITLE=McDougall United Church:53.539591;-113.49
 3782
END:VEVENT
END:VCALENDAR